BEGIN:VCALENDAR
VERSION:2.0
PRODID:-//Harare Institute of Technology - ECPv6.1.3//NONSGML v1.0//EN
CALSCALE:GREGORIAN
METHOD:PUBLISH
X-WR-CALNAME:Harare Institute of Technology
X-ORIGINAL-URL:https://www.hit.ac.zw
X-WR-CALDESC:Events for Harare Institute of Technology
REFRESH-INTERVAL;VALUE=DURATION:PT1H
X-Robots-Tag:noindex
X-PUBLISHED-TTL:PT1H
BEGIN:VTIMEZONE
TZID:Africa/Harare
BEGIN:STANDARD
TZOFFSETFROM:+0200
TZOFFSETTO:+0200
TZNAME:CAT
DTSTART:20230101T000000
END:STANDARD
TZID:UTC
BEGIN:STANDARD
TZOFFSETFROM:+0000
TZOFFSETTO:+0000
TZNAME:UTC
DTSTART:20220101T000000
END:STANDARD
END:VTIMEZONE
BEGIN:VEVENT
DTSTART;TZID=Africa/Harare:20251201T080000
DTEND;TZID=Africa/Harare:20251205T170000
DTSTAMP:20260426T003444
CREATED:20251103T072600Z
LAST-MODIFIED:20251103T072627Z
UID:26299-1764576000-1764954000@www.hit.ac.zw
SUMMARY:INTRUDER ALARM SYSTEMS & CCTV TRAINING COURSE
DESCRIPTION:
URL:https://www.hit.ac.zw/event/intruder-alarm-systems-cctv-training-course/
CATEGORIES:Short Courses
ATTACH;FMTTYPE=image/jpeg:https://www.hit.ac.zw/wp-content/uploads/2025/11/574073769_1417452827047611_8397016246397556716_n.jpg
END:VEVENT
BEGIN:VEVENT
DTSTART;TZID=Africa/Harare:20240508T080000
DTEND;TZID=Africa/Harare:20241219T170000
DTSTAMP:20260426T003444
CREATED:20240508T072956Z
LAST-MODIFIED:20240508T072956Z
UID:16741-1715155200-1734627600@www.hit.ac.zw
SUMMARY:TECHNOLOGY CENTRE SHORT COURSE TRAINING PROGRAM SCHEDULE
DESCRIPTION:TECHNOLOGY CENTRE SHORT COURSE TRAINING PROGRAM SCHEDULE
URL:https://www.hit.ac.zw/event/technology-centre-short-course-training-program-schedule/
CATEGORIES:Short Courses
END:VEVENT
BEGIN:VEVENT
DTSTART;TZID=Africa/Harare:20240403T080000
DTEND;TZID=Africa/Harare:20240405T170000
DTSTAMP:20260426T003444
CREATED:20240318T134448Z
LAST-MODIFIED:20240318T134448Z
UID:16131-1712131200-1712336400@www.hit.ac.zw
SUMMARY:SOLAR PHOTOVOLTAICS TRAINING COURSE
DESCRIPTION:Get a recognized certificate and become a certified installer. Get trained by experts and make it your goal to be above the rest.\n\n\nTRAINING DATES: 3 – 5 April 2024\n\n\nFEES: USD 100 For Early Birds\nUSD 110 Late Registration\n\n\nEnroll Now! Call 0718792518\, WhatsApp 0775996965\, Email – sales@hit.ac.zw
URL:https://www.hit.ac.zw/event/solar-photovoltaics-training-course/
CATEGORIES:Notices,Short Courses
ATTACH;FMTTYPE=image/jpeg:https://www.hit.ac.zw/wp-content/uploads/2024/03/431540902_935863175206581_945769950126374725_n.jpg
END:VEVENT
BEGIN:VEVENT
DTSTART;TZID=Africa/Harare:20240123T080000
DTEND;TZID=Africa/Harare:20241030T170000
DTSTAMP:20260426T003444
CREATED:20240123T160828Z
LAST-MODIFIED:20250225T073217Z
UID:15264-1705996800-1730307600@www.hit.ac.zw
SUMMARY:Data Protection officer Certification
DESCRIPTION:  \n  \n\n\n\n    \n        \n            \n            \n                DPO Certification Course Application form\n                 1 file(s)  287 KB\n            \n            \n                Download\n            \n        \n    \n\n\n\nDPO Certification Course copy (2)\nApply with a non-refundable application fee of USD 30 either physically at campus or email to  dpotraining@hit.ac.zw \nThe fee can be paid in the following account number \nPOTRAZ\nBancABC\nMt. Pleasant Branch\nACC no. 10622106433010 \nFor any questions contact us on dpotraining@hit.ac.zw .
URL:https://www.hit.ac.zw/event/data-protection-officer-certification/
CATEGORIES:Notices,Short Courses
END:VEVENT
BEGIN:VEVENT
DTSTART;TZID=Africa/Harare:20231127T090000
DTEND;TZID=Africa/Harare:20231129T170000
DTSTAMP:20260426T003444
CREATED:20231109T073242Z
LAST-MODIFIED:20231109T073335Z
UID:14878-1701075600-1701277200@www.hit.ac.zw
SUMMARY:SOLAR PHOTOVOLTAIC TRAINING COURSE
DESCRIPTION:
URL:https://www.hit.ac.zw/event/solar-photovoltaic-training-course-4/
CATEGORIES:Notices,Short Courses
ATTACH;FMTTYPE=image/jpeg:https://www.hit.ac.zw/wp-content/uploads/2023/11/400139945_662889782615047_380355250282789023_n.jpg
END:VEVENT
BEGIN:VEVENT
DTSTART;TZID=Africa/Harare:20231127T080000
DTEND;TZID=Africa/Harare:20231201T170000
DTSTAMP:20260426T003444
CREATED:20231107T142350Z
LAST-MODIFIED:20231107T142350Z
UID:14801-1701072000-1701450000@www.hit.ac.zw
SUMMARY:NON DESTRUSTIVE TESTING TRAINING COURSE
DESCRIPTION:
URL:https://www.hit.ac.zw/event/non-destrustive-testing-training-course/
CATEGORIES:Short Courses
ATTACH;FMTTYPE=image/jpeg:https://www.hit.ac.zw/wp-content/uploads/2023/11/399307452_663373372566688_1085491718585699757_n.jpg
END:VEVENT
BEGIN:VEVENT
DTSTART;TZID=Africa/Harare:20231106T080000
DTEND;TZID=Africa/Harare:20231110T170000
DTSTAMP:20260426T003444
CREATED:20231027T075806Z
LAST-MODIFIED:20231027T075806Z
UID:14518-1699257600-1699635600@www.hit.ac.zw
SUMMARY:Non Destructive  Testing Training  Course
DESCRIPTION:
URL:https://www.hit.ac.zw/event/non-destructive-testing-training-course/
CATEGORIES:Short Courses
ATTACH;FMTTYPE=image/jpeg:https://www.hit.ac.zw/wp-content/uploads/2023/10/395402526_841717644621135_9176324211897795621_n.jpg
END:VEVENT
BEGIN:VEVENT
DTSTART;TZID=Africa/Harare:20230412T083000
DTEND;TZID=Africa/Harare:20230414T163000
DTSTAMP:20260426T003444
CREATED:20230316T123646Z
LAST-MODIFIED:20230316T123646Z
UID:6578-1681288200-1681489800@www.hit.ac.zw
SUMMARY:SOLAR PHOTOVOLTAIC TRAINING COURSE
DESCRIPTION:Harare Institute of Technology in partnership with Sondar Technologies and Horizon Solar Systems\n\n\nDATE: 12 April – 14 April 2023\nTIME: 08:30Hrs to 4.30pm\nFEES: USD100\nVENUE : HIT INNOVATION HUB\n\n\nTeas & Lunch will be provided!!\n\n\nREGISTER NOW!\n100% practical\, get a recognized Harare Institute of Technology certificate and be an installer with impact\nGet trained by experts and make it your goal to be above the rest\, there is no pride in being average!\nFor further inquiries on the course contact us on +263 775 996 965
URL:https://www.hit.ac.zw/event/solar-photovoltaic-training-course-2/
CATEGORIES:Short Courses
ATTACH;FMTTYPE=image/jpeg:https://www.hit.ac.zw/wp-content/uploads/2023/03/336532159_896362564935599_882122976378875809_n.jpg
END:VEVENT
BEGIN:VEVENT
DTSTART;TZID=Africa/Harare:20230306T083000
DTEND;TZID=Africa/Harare:20230310T160000
DTSTAMP:20260426T003444
CREATED:20230223T111533Z
LAST-MODIFIED:20230223T111534Z
UID:6349-1678091400-1678464000@www.hit.ac.zw
SUMMARY:AC DRIVER TRAINING COURSE
DESCRIPTION: 
URL:https://www.hit.ac.zw/event/ac-driver-training-course/
LOCATION:HARARE INSTITUTE OF TECHNOLOGY INNOVATION HUB\, Zimbabwe
CATEGORIES:Short Courses
ATTACH;FMTTYPE=image/jpeg:https://www.hit.ac.zw/wp-content/uploads/2023/02/332180609_697661668784711_8111038167722884515_n.jpg
END:VEVENT
BEGIN:VEVENT
DTSTART;VALUE=DATE:20230201
DTEND;VALUE=DATE:20230204
DTSTAMP:20260426T003444
CREATED:20230112T130141Z
LAST-MODIFIED:20230112T130232Z
UID:5714-1675209600-1675468799@www.hit.ac.zw
SUMMARY:SOLAR PHOTOVOLTAIC TRAINING COURSE
DESCRIPTION:DATE: 01 FEBRUARY – 03 FEBRUARY 2023\nTIME: 0900Hrs\nFEES\nNow to 25 JAN 2023 USD100\, amount can also be paid in RTGS.\nLate admission: AFTER 25 JAN 2023 USD110\, amount can also be paid in RTGS.\nTeas & Lunch will be provided!! \nREGISTER NOW!\nGet a recognized certificate and be an installer with impact\nGet trained by experts and make it your goal to be above the rest\, there is no pride in being average!\nFor further inquiries on the course contact us on 0718 792 518. \n 
URL:https://www.hit.ac.zw/event/solar-photovoltaic-training-course/
LOCATION:Harare Institute of Technology\, Physical Address Harare Institute of Technology Campus Ganges Road\, Belvedere\, Harare\, Zimbabwe
CATEGORIES:Notices,Short Courses
ATTACH;FMTTYPE=image/jpeg:https://www.hit.ac.zw/wp-content/uploads/2023/01/WhatsApp-Image-2023-01-12-at-13.25.59.jpg
END:VEVENT
BEGIN:VEVENT
DTSTART;TZID=Africa/Harare:20230109T080000
DTEND;TZID=Africa/Harare:20230331T170000
DTSTAMP:20260426T003444
CREATED:20230104T115843Z
LAST-MODIFIED:20230104T120001Z
UID:5443-1673251200-1680282000@www.hit.ac.zw
SUMMARY:TECHNOLOGY CENTER SHORT COURSES' TRAINING PROGRAMME SCHEDULE FOR FIRST QUARTER OF 2023
DESCRIPTION:TECHNOLOGY CENTRE 2023 1ST QUARTER TRAINING COURSES-2\n  \n 
URL:https://www.hit.ac.zw/event/technology-center-short-courses-training-programme-schedule-for-first-quarter-of-2023/
LOCATION:Harare Institute of Technology\, Physical Address Harare Institute of Technology Campus Ganges Road\, Belvedere\, Harare\, Zimbabwe
CATEGORIES:Notices,Short Courses
END:VEVENT
BEGIN:VEVENT
DTSTART;TZID=UTC:20221207T080000
DTEND;TZID=UTC:20221209T170000
DTSTAMP:20260426T003444
CREATED:20221101T125002Z
LAST-MODIFIED:20221101T125002Z
UID:3917-1670400000-1670605200@www.hit.ac.zw
SUMMARY:END OF YEAR SOLAR PHOTOVOLTAIC TRAINING COURSE
DESCRIPTION:
URL:https://www.hit.ac.zw/event/end-of-year-solar-photovoltaic-training-course/
LOCATION:Harare Institute of Technology\, Physical Address Harare Institute of Technology Campus Ganges Road\, Belvedere\, Harare\, Zimbabwe
CATEGORIES:Notices,Short Courses
ATTACH;FMTTYPE=image/jpeg:https://www.hit.ac.zw/wp-content/uploads/2022/11/312908795_573750214751214_4266177838413698051_n.jpg
END:VEVENT
BEGIN:VEVENT
DTSTART;TZID=UTC:20221121T083000
DTEND;TZID=UTC:20221125T163000
DTSTAMP:20260426T003444
CREATED:20221031T044205Z
LAST-MODIFIED:20221031T104202Z
UID:3760-1669019400-1669393800@www.hit.ac.zw
SUMMARY:AC DRIVES TRAINING COURSE
DESCRIPTION:
URL:https://www.hit.ac.zw/event/ac-drives-training-course-2/
LOCATION:Harare Institute of Technology\, Physical Address Harare Institute of Technology Campus Ganges Road\, Belvedere\, Harare\, Zimbabwe
CATEGORIES:Notices,Short Courses
END:VEVENT
BEGIN:VEVENT
DTSTART;TZID=UTC:20221107T083000
DTEND;TZID=UTC:20221111T163000
DTSTAMP:20260426T003444
CREATED:20221031T043709Z
LAST-MODIFIED:20221031T104108Z
UID:3757-1667809800-1668184200@www.hit.ac.zw
SUMMARY:AC DRIVES TRAINING COURSE
DESCRIPTION:
URL:https://www.hit.ac.zw/event/ac-drives-training-course/
LOCATION:Harare Institute of Technology\, Physical Address Harare Institute of Technology Campus Ganges Road\, Belvedere\, Harare\, Zimbabwe
CATEGORIES:Notices,Short Courses
END:VEVENT
END:VCALENDAR